BEGIN:VCALENDAR
VERSION:2.0
CALSCALE:GREGORIAN
PRODID:-//MyApp//Calendar 1.0//EN
BEGIN:VEVENT
METHOD:PUBLISH
UID:33230@regionalniportaly.cz
DTSTAMP:20260424T075508Z
DTSTART;VALUE=DATE:20230622
DTEND;VALUE=DATE:20230623
SUMMARY:Vtípečky v Mladé Boleslavi | stand-up show
DESCRIPTION:Vtípečky se zelím přináší ty nejvypečenější komiky nové generace. Tentokrát v Mladé Boleslavi v útulném Black&amp\;Wood lounge\, kde si během vystoupení můžete pofajčit nejlepší vodní dýmky v širokém okolí.Několik z našich vystupujících vám naservíruje to nejlepší\, co napekli za poslední dobu. A pořádně tak vykročíme do letošního létaTěšíme se na vásKomediální skupinu Vtípečky se zelím založili v roce 2022 Ondřej Cabal a Aleš Pitrmoc. Jejím cílem je shromažďovat začínající komiky a kolektivně rozvíjet řemeslo stand upu. V tom jim pomáhají také známí a zkušení komici Jiří Jakima a Tigran Hovakimyan.
LOCATION:Mladá Boleslav
END:VEVENT
END:VCALENDAR