BEGIN:VCALENDAR
VERSION:2.0
CALSCALE:GREGORIAN
PRODID:-//MyApp//Calendar 1.0//EN
BEGIN:VEVENT
METHOD:PUBLISH
UID:33640@regionalniportaly.cz
DTSTAMP:20260422T034020Z
DTSTART;VALUE=DATE:20230819
DTEND;VALUE=DATE:20230820
SUMMARY:Cirk LA PUTIKA - BOOM vol. 2
DESCRIPTION:Generace Z. Head down generace. Young blood. Jaké mají hodnoty a sny? Žijí opravdu izolovaně s mobilními telefony v rukou a sluchátky v uších? Prostřednictvím vrcholného cirkusu vám poví svůj příběh. Budou hrát o svobodě a o všem\, co se nás dotýká a co máme společného. Pojďte za(žít) ten neskutečný příval energie mladé generace\, kterou spojily válka a cirkus.
LOCATION:Bělá pod Bezdězem
END:VEVENT
END:VCALENDAR