BEGIN:VCALENDAR
VERSION:2.0
CALSCALE:GREGORIAN
PRODID:-//MyApp//Calendar 1.0//EN
BEGIN:VEVENT
METHOD:PUBLISH
UID:34127@regionalniportaly.cz
DTSTAMP:20260422T063018Z
DTSTART;VALUE=DATE:20230829
DTEND;VALUE=DATE:20230830
SUMMARY:Těžká Barbora
DESCRIPTION:Pojďte s námi ukončit letní divadelní hraní pod širým nebem.Hra Těžká Barbora je situována do města Ediamu jež je obdobou našeho Kocourkova. Mírumilovný Eidam je ohrožen rozpínavou sousední velmocí. Přijde vám to aktuální? Nám taky.&nbsp\;
LOCATION:Mladá Boleslav
END:VEVENT
END:VCALENDAR