BEGIN:VCALENDAR
VERSION:2.0
CALSCALE:GREGORIAN
PRODID:-//MyApp//Calendar 1.0//EN
BEGIN:VEVENT
METHOD:PUBLISH
UID:34718@regionalniportaly.cz
DTSTAMP:20260422T052829Z
DTSTART;VALUE=DATE:20231029
DTEND;VALUE=DATE:20231030
SUMMARY:PÁRTY PRO DĚTI | Ve stylu ledového království | ČESKÁ LÍPA
DESCRIPTION:Oblíbená dětská párty ve stylu Ledového království v České Lípě s bohatým programem! Tento den bude patřit všem dětem!&nbsp\;Čeká vás nabitý program\, tematické dekorace\, hudba z pohádek\, malování na obličej a hned několik pohádkových postaviček\, které vaše děti milují&nbsp\;&nbsp\;a se kterými se budou moci i vyfotit.&nbsp\;Nejen\, že si zazpívají s Elsou\, Annou a Oláfkem\, ale i si zatančí na dětském discu se Šmoulama a těm nejhodnějším dá Mimoň i nějaké sladkosti.&nbsp\;PRO DĚTI:- Pohádkové dobrodružství a výzdoba- Diskotéka a tancování s postavičkami- Oblíbené pohádkové postavičky- Malování na obličej- Focení s maskotyPROGRAM: 15:00 Otevření prostoru\, 15:30 Focení s maskoty\, 16:00 Hlavní program\, 17:30 KonecDěti do 2 let (tzn. 24 měsíců) zdarma bez vstupenky\, každý jiný návštěvník musí mít platnou vstupenku\, cena vstupenek je shodná pro děti i dospělé.Tým HappyKid!&nbsp\;
LOCATION:Česká Lípa
END:VEVENT
END:VCALENDAR