BEGIN:VCALENDAR
VERSION:2.0
CALSCALE:GREGORIAN
PRODID:-//MyApp//Calendar 1.0//EN
BEGIN:VEVENT
METHOD:PUBLISH
UID:35811@regionalniportaly.cz
DTSTAMP:20260422T003345Z
DTSTART;VALUE=DATE:20231104
DTEND;VALUE=DATE:20231105
SUMMARY:Sexem ke štěstí
DESCRIPTION:Pikantní komedie Jakuba Zindulky.&nbsp\;Máte partnerské problémy? Vadne váš intimní vztah? Obraťte se na sexuální koučku!Hraje Divadelní sdružení Sokol\, Mšeno.
LOCATION:Bělá pod Bezdězem
END:VEVENT
END:VCALENDAR