BEGIN:VCALENDAR
VERSION:2.0
CALSCALE:GREGORIAN
PRODID:-//MyApp//Calendar 1.0//EN
BEGIN:VEVENT
METHOD:PUBLISH
UID:35848@regionalniportaly.cz
DTSTAMP:20260421T220415Z
DTSTART;VALUE=DATE:20231111
DTEND;VALUE=DATE:20231112
SUMMARY:Saturnin
DESCRIPTION:Humoristické představení ztvárňuje klasickou předlohu Zdeňka Jirotky.&nbsp\;Dramatizace známé novely Zdeňka Jirotky\, která ač spatřila světlo světa v roce 1942\, je stále plná svěžího humoru. Režisérovi&nbsp\;inscenace\, Václavu Poldovi\, se podařilo přenést Jirotkův suchý anglický humor na scénu. A navíc\, slečna Barbora...Hraje Divadelní spolek Klas\, Klášterec nad Ohří
LOCATION:Bělá pod Bezdězem
END:VEVENT
END:VCALENDAR