BEGIN:VCALENDAR
VERSION:2.0
CALSCALE:GREGORIAN
PRODID:-//MyApp//Calendar 1.0//EN
BEGIN:VEVENT
METHOD:PUBLISH
UID:35849@regionalniportaly.cz
DTSTAMP:20260422T074949Z
DTSTART;VALUE=DATE:20231117
DTEND;VALUE=DATE:20231118
SUMMARY:SVĚT JE BÁJEČNÉ MÍSTO
DESCRIPTION:Poetický večer jazzu a poezie.Večer věnovaný ve svém úvodu&nbsp\;Vladimíru Holanovi ukáže originální přístup tvůrců k&nbsp\;práci s&nbsp\;verši. Kromě známých &nbsp\;jazzových skladeb&nbsp\; zazní písně vytvořené přímo pro tento pořad. Divák si tak může &nbsp\;nejen poslechnout přednes básně\, ale hned ji následně uslyší i ve zhudebněné podobě. Verše amerického básníka Lawrence Ferlinghettiho jsme nevybrali pro tuto formu náhodně. Je to básník s&nbsp\;jazzem přímo spjatý a jeho verše jsme si prostě zamilovali. Byli bychom rádi\, kdyby se líbili i vám.Robert Fuchs – hudba \, klavír a zpěvVlasta Korbová&nbsp\; a Arnošt Proschek – přednes
LOCATION:Bělá pod Bezdězem
END:VEVENT
END:VCALENDAR