BEGIN:VCALENDAR
VERSION:2.0
CALSCALE:GREGORIAN
PRODID:-//MyApp//Calendar 1.0//EN
BEGIN:VEVENT
METHOD:PUBLISH
UID:35850@regionalniportaly.cz
DTSTAMP:20260424T104218Z
DTSTART;VALUE=DATE:20231124
DTEND;VALUE=DATE:20231125
SUMMARY:Mařka
DESCRIPTION:Divadelní inscenace podle Johannese Urzidila\, hraje divadlo Máj\, Praha&nbsp\;
LOCATION:Bělá pod Bezdězem
END:VEVENT
END:VCALENDAR