BEGIN:VCALENDAR
VERSION:2.0
CALSCALE:GREGORIAN
PRODID:-//MyApp//Calendar 1.0//EN
BEGIN:VEVENT
METHOD:PUBLISH
UID:35851@regionalniportaly.cz
DTSTAMP:20260422T063008Z
DTSTART;VALUE=DATE:20231118
DTEND;VALUE=DATE:20231119
SUMMARY:NENÁVIDÍM TĚ BUKOWSKI!
DESCRIPTION:One-man show - nevhodné pro dětského diváka.Naše – NENÁVIDÍM TĚ\, BUKOWSKI! - vychází z&nbsp\;představy toho\, jaké by to bylo\, kdyby literární postava toužila po něčem jiném\, než co mu její autor předepsal.&nbsp\;Broukovcovo Kamdivadlo\, Česká Kamenice&nbsp\;
LOCATION:Bělá pod Bezdězem
END:VEVENT
END:VCALENDAR