BEGIN:VCALENDAR
VERSION:2.0
CALSCALE:GREGORIAN
PRODID:-//MyApp//Calendar 1.0//EN
BEGIN:VEVENT
METHOD:PUBLISH
UID:35852@regionalniportaly.cz
DTSTAMP:20260422T063801Z
DTSTART;VALUE=DATE:20231125
DTEND;VALUE=DATE:20231126
SUMMARY:Zamilovaný velvyslanec
DESCRIPTION:Bláznivá komedie.&nbsp\;Hraje Divadelní spolek Tyl\, Bakov nad Jizerou
LOCATION:Bělá pod Bezdězem
END:VEVENT
END:VCALENDAR