BEGIN:VCALENDAR
VERSION:2.0
CALSCALE:GREGORIAN
PRODID:-//MyApp//Calendar 1.0//EN
BEGIN:VEVENT
METHOD:PUBLISH
UID:36660@regionalniportaly.cz
DTSTAMP:20260424T104156Z
DTSTART;VALUE=DATE:20231212
DTEND;VALUE=DATE:20231213
SUMMARY:Vánoce v Divadýlku
DESCRIPTION:aneb Jako každý rokNa co se letos můžete těšit? Nejprve uvidíte Divadýlkovské zpracování poetické povídky Ludvíka Aškenazyho - Malá Vánoční povídka aneb&nbsp\;Jak jsem se ztratil.Po přestávce\, kdy&nbsp\;budete moci ve foayer nasát\, krom Vánoční atmosfery\, také&nbsp\;svařák\, čímž získáte křídla a budete se moct vrátit do sálu podívat se na ANDĚLSKÉ APOKRYFY. Divadýlkovský pohled na to co se tak mohlo o té Svaté noci stát.&nbsp\;A to vše okořeněné vůní pečeného cukroví a možná is em tam nějakou básničkou a písničkou navrch...Vánoce jsou totiž za dveřmi!&nbsp\;Hrají: členové Divadýlka na dlani a hosté
LOCATION:Mladá Boleslav
END:VEVENT
END:VCALENDAR