BEGIN:VCALENDAR
VERSION:2.0
CALSCALE:GREGORIAN
PRODID:-//MyApp//Calendar 1.0//EN
BEGIN:VEVENT
METHOD:PUBLISH
UID:38913@regionalniportaly.cz
DTSTAMP:20260422T141909Z
DTSTART;VALUE=DATE:20240321
DTEND;VALUE=DATE:20240322
SUMMARY:VÁVRA
DESCRIPTION:aneb Všechno co jste chtěli vědět o&nbsp\;Maryše a báli jste se Mrštíků zeptatJedno z&nbsp\;nejznámějších dramat českého divadla po našem. Byl Vávra opravdu takový "lunt"\, že musel být otráven? Co vedlo bratry Mrštíky k&nbsp\;tomu napsat právě Maryšu.Představení bylo úspěšné a "probojovalo se" až na legendární Jiráskův Hronov. Pro ty\, kdo ještě váhají čtěte&nbsp\;článek Radmily Hrdinové (filmová a divaldení kritička) z roku 2019. Článek najdete pod foto galerií.&nbsp\;
LOCATION:Mladá Boleslav
END:VEVENT
END:VCALENDAR