BEGIN:VCALENDAR
VERSION:2.0
CALSCALE:GREGORIAN
PRODID:-//MyApp//Calendar 1.0//EN
BEGIN:VEVENT
METHOD:PUBLISH
UID:39201@regionalniportaly.cz
DTSTAMP:20260422T130032Z
DTSTART;VALUE=DATE:20240315
DTEND;VALUE=DATE:20240316
SUMMARY:Skautský ples 2024
DESCRIPTION:Skautský ples 2024
LOCATION:Turnov
END:VEVENT
END:VCALENDAR