BEGIN:VCALENDAR
VERSION:2.0
CALSCALE:GREGORIAN
PRODID:-//MyApp//Calendar 1.0//EN
BEGIN:VEVENT
METHOD:PUBLISH
UID:39220@regionalniportaly.cz
DTSTAMP:20260424T135027Z
DTSTART;VALUE=DATE:20240214
DTEND;VALUE=DATE:20240215
SUMMARY:Partička na vzduchu
DESCRIPTION:
LOCATION:Mladá Boleslav
END:VEVENT
END:VCALENDAR