BEGIN:VCALENDAR
VERSION:2.0
CALSCALE:GREGORIAN
PRODID:-//MyApp//Calendar 1.0//EN
BEGIN:VEVENT
METHOD:PUBLISH
UID:40161@regionalniportaly.cz
DTSTAMP:20260422T082446Z
DTSTART;VALUE=DATE:20240314
DTEND;VALUE=DATE:20240315
SUMMARY:Concerto Aventino
DESCRIPTION:
LOCATION:Mladá Boleslav
END:VEVENT
END:VCALENDAR