BEGIN:VCALENDAR
VERSION:2.0
CALSCALE:GREGORIAN
PRODID:-//MyApp//Calendar 1.0//EN
BEGIN:VEVENT
METHOD:PUBLISH
UID:40424@regionalniportaly.cz
DTSTAMP:20260422T082147Z
DTSTART;VALUE=DATE:20240322
DTEND;VALUE=DATE:20240324
SUMMARY:Hřbitovní aktovky
DESCRIPTION:
LOCATION:Bakov nad Jizerou
END:VEVENT
END:VCALENDAR