BEGIN:VCALENDAR
VERSION:2.0
CALSCALE:GREGORIAN
PRODID:-//MyApp//Calendar 1.0//EN
BEGIN:VEVENT
METHOD:PUBLISH
UID:40441@regionalniportaly.cz
DTSTAMP:20260422T080147Z
DTSTART;VALUE=DATE:20240419
DTEND;VALUE=DATE:20240420
SUMMARY:Vzpoura nevěst
DESCRIPTION:Co všechno předchází tomu nejkrásnějšímu dni kdy si dva zamilovaní řeknou ano na celý život? Možná byste se divili.
LOCATION:Bělá pod Bezdězem
END:VEVENT
END:VCALENDAR