BEGIN:VCALENDAR
VERSION:2.0
CALSCALE:GREGORIAN
PRODID:-//MyApp//Calendar 1.0//EN
BEGIN:VEVENT
METHOD:PUBLISH
UID:46844@regionalniportaly.cz
DTSTAMP:20260422T182106Z
DTSTART;VALUE=DATE:20241101
DTEND;VALUE=DATE:20241130
SUMMARY:Tréglova Bělá 2024
DESCRIPTION:Rok co rok (s výjimkou roku 2020\, kdy světem řádil covid-19) přinášíme&nbsp\;divákům do Bělé pod Bezdězem zajímavá\, převážně ochotnická představení. Skoro každý rok je festival „okořeněn“ také nějakými profesionálními soubory. Náš komorní sál či v dřevních&nbsp\;dobách ještě prostory školního klubu navštívila řada hereckých osobností. Mezi jinými paní Ljuba Skořepov.\, Nina Divíšková\, Jaroslava Adamová\, z mladší generace Petr Stach\, Anna Fixová\, Roman Zach\, Barbora Seidlová a další.V letošním jubilejním roce pro vás přivezeme dojemnou komedii z brněnského divadla Vejminek&nbsp\;Čarodky. Těšit se můžete i na další stálice Tréglovy Bělé\, kterými jsou soubory z Bakova nad Jizerou či Divadýlko na dlani. Bakovští kolegové přivezou představení Hřbitovní aktovky a Divadýlko vás pozve do Podnebí. Nebojte se\, budou i další soubory. Kompletní program včetně možnosti zakoupit si vstupenky budete mít na našem webu již brzy.Vstupenky budou k mání od pondělí 7. října a &nbsp\;to buď na jednotlivá představení nebo jako "permice" na celý festival.Těšíme se na vásKultura&nbsp\;Bělá
LOCATION:Bělá pod Bezdězem
END:VEVENT
END:VCALENDAR