BEGIN:VCALENDAR
VERSION:2.0
CALSCALE:GREGORIAN
PRODID:-//MyApp//Calendar 1.0//EN
BEGIN:VEVENT
METHOD:PUBLISH
UID:46893@regionalniportaly.cz
DTSTAMP:20260422T163757Z
DTSTART;VALUE=DATE:20241109
DTEND;VALUE=DATE:20241110
SUMMARY:Hřbitovní aktovky
DESCRIPTION:Co je duše? Co se děje po smrti? Co to jsou dušičky?Že to víte? Že je to jasné? Jste si jistí?Po třeskutých komediích přicházíme s komedií méně třeskutou. Přijdete na hřbitov\, který se tváří jako celkem klidné místo vhodné ke ztišení a rozjímání. Ovšem jen do chvíle\, kdy vám dojde\, že na scéně se objevují živí lidé jako návštěvníci hřbitova a mrtví jako jeho obyvatelé. Bydlí tam duše všech a je jim tam dobře\, a mají vlastně úplně stejný život jako za života. Řeší úplně stejné problémy s bydlením\, se vztahy\, se zábavou\, s přátelstvím… jenom se to celé děje na hřbitově\, kde jsou živí jenom na návštěvě.Ano\, je to komedie! 🙂 Ne\, není to zase taková komedie! 🙂 Ano\, sem tam se i dojmout můžete! 🙂 Ne\, bát se určitě nebudete! 🙂Hraje DS Bakov nad Jizerou
LOCATION:Bělá pod Bezdězem
END:VEVENT
END:VCALENDAR