BEGIN:VCALENDAR
VERSION:2.0
CALSCALE:GREGORIAN
PRODID:-//MyApp//Calendar 1.0//EN
BEGIN:VEVENT
METHOD:PUBLISH
UID:46916@regionalniportaly.cz
DTSTAMP:20260422T212741Z
DTSTART;VALUE=DATE:20241116
DTEND;VALUE=DATE:20241117
SUMMARY:Valčík na rozloučenou
DESCRIPTION:Rudolf je oddaný. Rudolf je vstřícný. Rudolf toho vydrží hodně. Ale pouze do doby\, než se rozhodne všechno změnit! V cestě za splněním jeho snu mu však stojí tři sestry\, Karolína\, Cecílie a Týna\, které se jen tak nevzdávají. Má to všechno totiž jeden háček. Aby Rudolf získal co potřebuje\, musely by sestry zemřít. Vyhraje Rudolf tento “souboj”? A co na to sestry\, kterým doposud sloužil? Kdo bude nakonec tančit valčík?&nbsp\;Černá tragikomedie\, ve které nečekejte třeskutý humor ani litry krve\, inspirovaná úspěšnou hrou Wolfganga Kohlhaase a Rity Zemmerové\, Ryba ve čtyřech.Režie: Aneta HořeníHraje Divadelní soubor Tyl Mnichovo Hradiště
LOCATION:Bělá pod Bezdězem
END:VEVENT
END:VCALENDAR