BEGIN:VCALENDAR
VERSION:2.0
CALSCALE:GREGORIAN
PRODID:-//MyApp//Calendar 1.0//EN
BEGIN:VEVENT
METHOD:PUBLISH
UID:46923@regionalniportaly.cz
DTSTAMP:20260422T212932Z
DTSTART;VALUE=DATE:20241129
DTEND;VALUE=DATE:20241130
SUMMARY:S tvojí dcerou ne
DESCRIPTION:Příběh dvou docela obyčejných manželských párů způsobí nejprve lehkou zápletku. Postupně však doslova gejzír bláznivých situací\, a to za přispění dospívající dcery\, jejího kluka a ubohého bytaře\, který přijde poctivě krást\, zamotá se do světa intelektuálů a jen zírá\, kam se to připletl.Antonín Procházka je obdařen talentem pro komediální žánr. Text jeho hry mluví divákům z duše. Je to příběh docela obyčejných manželských párů (bankovní úředník s učitelkou a majitel neprosperující umělecké agentury s knihovnicí)\, snažících se předejít možné manželské krizi.Autor:&nbsp\;Antonín ProcházkaHraje:&nbsp\;DS Jirásek\, Horní Olešnice
LOCATION:Bělá pod Bezdězem
END:VEVENT
END:VCALENDAR