BEGIN:VCALENDAR
VERSION:2.0
CALSCALE:GREGORIAN
PRODID:-//MyApp//Calendar 1.0//EN
BEGIN:VEVENT
METHOD:PUBLISH
UID:46926@regionalniportaly.cz
DTSTAMP:20260422T213002Z
DTSTART;VALUE=DATE:20241130
DTEND;VALUE=DATE:20241201
SUMMARY:Vítr ve větvích topolů
DESCRIPTION:Divadelní hru „Vítr ve větvích topolů“ lze po právu označit za konverzační komedii s tragikomickou rovinou. Protagonisty příběhu jsou Gustav\,&nbsp\;Fernand&nbsp\;a René\, tři veteráni z první světové války\, kteří žijí na počátku šedesátých let minulého století v domově pro vysloužilé vojáky. Jeden je cynik trpící strachem z vnějšího světa\, druhý díky střepině v hlavě každou chvíli omdlévá a třetí je pragmatik a opatrný optimista\, pokoušející se stát nohama na pevné zemi. Z jejich každodenního setkávání na místní terase vzejde plán\, jak se vzepřít osudu\, kde jedinou perspektivu představuje smrt a zažít dobrodružnou cestu na kopec\, na jehož vrcholu se vítr prohání ve větvích topolů. Podaří se jim zažít vytoužené dobrodružství?
LOCATION:Bělá pod Bezdězem
END:VEVENT
END:VCALENDAR