BEGIN:VCALENDAR
VERSION:2.0
CALSCALE:GREGORIAN
PRODID:-//MyApp//Calendar 1.0//EN
BEGIN:VEVENT
METHOD:PUBLISH
UID:55550@regionalniportaly.cz
DTSTAMP:20260422T125310Z
DTSTART;VALUE=DATE:20251031
DTEND;VALUE=DATE:20251101
SUMMARY:QUEENWAYS - Queen Tribute Band
DESCRIPTION:QUEENWAYS je hudební skupina (Queen revival\, Queen tribute)\, která interpretuje zejména nejslavnější hity legendární kapely Queen. Queenways kapela se skládá z profesionálních hudebníků s bohatými zkušenostmi na domácí i zahraniční scéně. Queenways Vás svým nasazením\, živostí a sehraností přenese zpět do doby\, kdy skupina Queen ovládala stadiony po celém světě. Kapela ctí typický projev a zvuk kapely Queen napříč dekádami\, ale zároveň nechává projevit osobitý přístup každého z muzikantů.&nbsp\;&nbsp\;V čele kapely stojí zpěvák Jaroslav Břeský\, který je okouzlen krásou hudby Queen již od svých 4 let a od té doby se jí aktivně věnuje. Byl také obdařen hlasovou barvou podobnou Freddie Mercurymu. V roce 2016 měl tu čest zazpívat na nedožitých 70. narozeninách Freddie Mercuryho a osobně se setkat se zbývajícími členy skupiny Queen. Jeho vystoupení ocenil a zpropagoval na svých sociálních sítích kytarista Brian May. V roce 2018 byl vybrán Asijskou produkcí na 2 koncerty v Indické Bombaji za účasti příbuzných Freddie Mercuryho.&nbsp\;&nbsp\;Na koncertech Queenways pravidelně zaznívají skladby jako "Bohemian Rhapsody"\, "We Will Rock You"\, "We Are The Champions" a "Radio Ga Ga"\, ale také několik méně známých sladeb kapely Queen\, které si během let členové kapely oblíbili.
LOCATION:Tatobity
END:VEVENT
END:VCALENDAR