BEGIN:VCALENDAR
VERSION:2.0
CALSCALE:GREGORIAN
PRODID:-//MyApp//Calendar 1.0//EN
BEGIN:VEVENT
METHOD:PUBLISH
UID:55554@regionalniportaly.cz
DTSTAMP:20260422T121600Z
DTSTART;VALUE=DATE:20250723
DTEND;VALUE=DATE:20250724
SUMMARY:Revizor
DESCRIPTION:Divadelní soubor Tyl Rakovník přiváží na divadelní prkna zámku v Bělé pod Bezdězem další zpracování Gogolovy hry Revizor.
LOCATION:Bělá pod Bezdězem
END:VEVENT
END:VCALENDAR