BEGIN:VCALENDAR
VERSION:2.0
CALSCALE:GREGORIAN
PRODID:-//MyApp//Calendar 1.0//EN
BEGIN:VEVENT
METHOD:PUBLISH
UID:55555@regionalniportaly.cz
DTSTAMP:20260424T110334Z
DTSTART;VALUE=DATE:20250724
DTEND;VALUE=DATE:20250725
SUMMARY:Nezbedný bakalář
DESCRIPTION:Zikmund Winter napsal historcké povídky\, Zdeněk Štěpánek dvě z nich zdramatizoval a v roce 1937 si rakovnickými ochotníky v premiéře zahrál hlavní roli. V roce 2024 se příběh vrací na jeviště\, aby vás pobavil a třeba i přiměl k zamyšlení.
LOCATION:Bělá pod Bezdězem
END:VEVENT
END:VCALENDAR