BEGIN:VCALENDAR
VERSION:2.0
CALSCALE:GREGORIAN
PRODID:-//MyApp//Calendar 1.0//EN
BEGIN:VEVENT
METHOD:PUBLISH
UID:55559@regionalniportaly.cz
DTSTAMP:20260424T091819Z
DTSTART;VALUE=DATE:20250826
DTEND;VALUE=DATE:20250827
SUMMARY:Třináct vůní
DESCRIPTION:aneb Proč bychom se netěšili...Premiéra hry Třináct vůní (z deníku žákyně) proběhla ve Studiu Ypsilon v&nbsp\;roce 1975. Na scénu Divadýlka na dlani ji uvádíme přesně po padesáti letech. Od té doby se mnohé změnilo. A&nbsp\;co my?
LOCATION:Bělá pod Bezdězem
END:VEVENT
END:VCALENDAR