BEGIN:VCALENDAR
VERSION:2.0
CALSCALE:GREGORIAN
PRODID:-//MyApp//Calendar 1.0//EN
BEGIN:VEVENT
METHOD:PUBLISH
UID:55977@regionalniportaly.cz
DTSTAMP:20260422T170735Z
DTSTART;VALUE=DATE:20250906
DTEND;VALUE=DATE:20250907
SUMMARY:Septemberfest 2025
DESCRIPTION:Tradiční Septemberfest také letos proběhne na Krásné louce u nás v Mladé Boleslavi. Akce se uskuteční 6. 9. 2025 od 13:00 hod. Těšit se můžete na legendární kapelu Olympic která je snámi na české hudební scéně již skvělých 62 let. Dále pak vystoupí Aleš Brichta\, bývalý člen kapely Arakain kterou v roce 1982 založil společně s Jiřím Urbanem a Miroslavem Nedvědem. Známé hity americké punkrockové kapely Green Day nám zahraje pražská parta Green Day revival Prague a nejznámější hity světové i domácí scény v originálním aranžmá nám zahraje třináctičlenná kapela The People v doprovodu několika dechových nástrojů. Čtvrtým vystupujícím je kapela Pfund ze sousedního Německa.\nTradičně se můžete těšit také na bohatou účast malých i velkých pivovarů a ochutnat tak budete moct z mnoha druhů piv. Chybět nebudou ani pouťové atrakce pro děti a doprovodný program nejen pro dospělé ale také děti.\nVstupné je 200 kč
LOCATION:Mladá Boleslav
END:VEVENT
END:VCALENDAR