BEGIN:VCALENDAR
VERSION:2.0
CALSCALE:GREGORIAN
PRODID:-//MyApp//Calendar 1.0//EN
BEGIN:VEVENT
METHOD:PUBLISH
UID:56420@regionalniportaly.cz
DTSTAMP:20260422T124238Z
DTSTART;VALUE=DATE:20251115
DTEND;VALUE=DATE:20251116
SUMMARY:Metanol: Procitáš Tour - Mladá Boleslav
DESCRIPTION:PROCITÁŠ TOUR 2025 |Tři výrazné kapely české rockové a metalové scény –&nbsp\;Metanol\,&nbsp\;Mantra&nbsp\;a&nbsp\;Define Me&nbsp\;– vyráží vůbec poprvé společně na turné pod názvem&nbsp\;PROCITÁŠ!Přijď zažít večer plný silných textů\, nezaměnitelné atmosféry a kapel\, které&nbsp\;nehrají jen hudbu – ale prožívají ji s vámi. Tohle bude víc než koncert. Tohle je probuzení.250\,- v předprodeji 300\,- na místě
LOCATION:Mladá Boleslav
END:VEVENT
END:VCALENDAR