BEGIN:VCALENDAR
VERSION:2.0
CALSCALE:GREGORIAN
PRODID:-//MyApp//Calendar 1.0//EN
BEGIN:VEVENT
METHOD:PUBLISH
UID:56796@regionalniportaly.cz
DTSTAMP:20260422T122712Z
DTSTART;VALUE=DATE:20250824
DTEND;VALUE=DATE:20250825
SUMMARY:Dětský den - Rozloučení s létem
DESCRIPTION:Rozlučka s prázdninami ve Vrchbělé!&nbsp\;Neděle&nbsp\;24. srpna 2025Areál Vrchbělá\, Bělá pod BezdězemZačínáme v 10:00 a jedeme celý den!&nbsp\;Dospělý doprovod má vstup na akci ZDARMA!!!Léto se s námi pomalu loučí – pojďme se rozloučit taky!Přijďte si s dětmi užít parádní den plný zábavy\, her a zážitků v krásném prostředí areálu Vrchbělá.&nbsp\;
LOCATION:Bělá pod Bezdězem
END:VEVENT
END:VCALENDAR