BEGIN:VCALENDAR
VERSION:2.0
CALSCALE:GREGORIAN
PRODID:-//MyApp//Calendar 1.0//EN
BEGIN:VEVENT
METHOD:PUBLISH
UID:57154@regionalniportaly.cz
DTSTAMP:20260422T112548Z
DTSTART;VALUE=DATE:20251106
DTEND;VALUE=DATE:20251107
SUMMARY:Petr Tomeček / Panova flétna v melodiích Karla Svobody
DESCRIPTION:Srdečně vás zveme na jedinečný hudební večer\, který propojí výjimečný zvuk vzácného hudebního nástroje Panovy flétny s nezaměnitelnou a nadčasovou tvorbou Karla Svobody\, jednoho z nejgeniálnějších českých skladatelů.Panova flétna\, nástroj s tisíciletou historií a kouzelně éterickým zvukem\, rozezní známé melodie\, které se zapsaly do srdcí několika generací. Zazní slavné filmové a televizní skladby v novém\, překvapivém podání - dojemné\, energické i snové.Celý koncert doprovodí obrazová a světelná projekce\, která umocní atmosféru a promění vystoupení v multisenzorický zážitek.Přijďte si užít večer plný emocí\, krásy a originálního hudebního spojení\, které se rodí jen výjimečně.
LOCATION:Mladá Boleslav
END:VEVENT
END:VCALENDAR