BEGIN:VCALENDAR
VERSION:2.0
CALSCALE:GREGORIAN
PRODID:-//MyApp//Calendar 1.0//EN
BEGIN:VEVENT
METHOD:PUBLISH
UID:57547@regionalniportaly.cz
DTSTAMP:20260422T125236Z
DTSTART;VALUE=DATE:20251011
DTEND;VALUE=DATE:20251012
SUMMARY:Karneval Party
DESCRIPTION:Ahoj\,jsme dvě Elišky a pořádáme Dětskou karnevalovou&nbsp\;párty pro vás\, pro rodiny!Čas konání akce: 13:00 – 18:00 hodin.&nbsp\;Připravte se na nezapomenutelné odpoledne plné smíchu a zábavy!Holky z Ellis Bday Party pro vás připravily:• Mini disco pro děti• Hry a soutěže s malými odměnami• Úžasná vystoupení dětí i akrobatů• Stánky s tvořením a malováním na obličej• Lahodné jídlo a pití• Speciální host: Vlk – spousta her a zábavy!• Fotokoutek – vyfoťte se s dětmi.&nbsp\;Masky jsou vítány!• Přijďte s dětmi v kostýmu&nbsp\;– bude to ještě zábavnější!• Rodiče v kostýmu získají z fotokoutku tisk fotky&nbsp\;zdarma.&nbsp\;Počet vstupenek je omezen!• Vstupenky se prodávají ve dvou vlnách s rozdílnou cenou\, tak neváhejte! V případě&nbsp\;prodání&nbsp\;vstupenek v předprodeji pak na místě již&nbsp\;žadné nebudou.• Děti do&nbsp\;2 let ZDARMA.&nbsp\;&nbsp\;&nbsp\;
LOCATION:Mladá Boleslav
END:VEVENT
END:VCALENDAR