BEGIN:VCALENDAR
VERSION:2.0
CALSCALE:GREGORIAN
PRODID:-//MyApp//Calendar 1.0//EN
BEGIN:VEVENT
METHOD:PUBLISH
UID:57638@regionalniportaly.cz
DTSTAMP:20260422T170757Z
DTSTART;VALUE=DATE:20251206
DTEND;VALUE=DATE:20251207
SUMMARY:Vráťa Hošek + STARTi + Přísun povolen - Mladá Boleslav
DESCRIPTION:Zveme vás na NEKOREKTNÍ PŘEDVÁNOČNÍ VEČER!Těšit se můžete na:Vráťu Hoška - PÍSNIČKÁŘ ČERNÉHO HUMORUhttps://www.youtube.com/watch?v=2S3dwcVXTxo&amp\;list=RD2S3dwcVXTxo&amp\;start_radio=1STARTi - Punkrocková kapela z okolí VMhttps://www.youtube.com/watch?v=DEn42a15pak&amp\;list=RDDEn42a15pak&amp\;start_radio=1Přísun povolen - PUNK PRAHAhttps://www.youtube.com/watch?v=nNUGssAG4mw&amp\;list=RDnNUGssAG4mw&amp\;start_radio=1VSTUP OD 20:00HODIN&nbsp\;
LOCATION:Mladá Boleslav
END:VEVENT
END:VCALENDAR