BEGIN:VCALENDAR
VERSION:2.0
CALSCALE:GREGORIAN
PRODID:-//MyApp//Calendar 1.0//EN
BEGIN:VEVENT
METHOD:PUBLISH
UID:57862@regionalniportaly.cz
DTSTAMP:20260422T130128Z
DTSTART;VALUE=DATE:20251115
DTEND;VALUE=DATE:20251116
SUMMARY:Kachna na pomerančích
DESCRIPTION:„Kachna na pomerančích“ je brilantní komedie plná elegantního humoru\, jiskřivých dialogů a nečekaných zvratů. Když se zdánlivě spořádané manželství ocitne v ohrožení\, začíná hra plná manipulace\, svádění a vtipné hry na kočku a myš. Připravte se na večer plný zábavy\, kde láska\, nevěra a důvtip servírují nezapomenutelný divadelní zážitek!Hraje DS Ampulka\, Třebíč
LOCATION:Bělá pod Bezdězem
END:VEVENT
END:VCALENDAR