BEGIN:VCALENDAR
VERSION:2.0
CALSCALE:GREGORIAN
PRODID:-//MyApp//Calendar 1.0//EN
BEGIN:VEVENT
METHOD:PUBLISH
UID:57865@regionalniportaly.cz
DTSTAMP:20260422T062157Z
DTSTART;VALUE=DATE:20251108
DTEND;VALUE=DATE:20251109
SUMMARY:Vadí nevadí
DESCRIPTION:aneb Studie o upřímnostiV.A.D. Kladno se snaží &nbsp\;divákovi (i sobě) odpovědět na otázku\, jestli by nebylo jednodušší mluvit o věcech přímo\, bez omáčky. Hra zkoumá upřímnost ze různých úhlů pohledu.Hraje: V.A.D.\, KladnoPřestavení bylo součástí Jiráskova Hronova 2025Od souboru už jste viděli: Píseček (2022)\, Sága rodu Rossiny (2014)\, Rozpaky zubaře Svatopluka (mimo Tréglovu Bělou)&nbsp\;
LOCATION:Bělá pod Bezdězem
END:VEVENT
END:VCALENDAR