BEGIN:VCALENDAR
VERSION:2.0
CALSCALE:GREGORIAN
PRODID:-//MyApp//Calendar 1.0//EN
BEGIN:VEVENT
METHOD:PUBLISH
UID:57974@regionalniportaly.cz
DTSTAMP:20260422T063320Z
DTSTART;VALUE=DATE:20251114
DTEND;VALUE=DATE:20251115
SUMMARY:Třináct nebožtíků
DESCRIPTION:aneb Vražedný čajový dýchánekVítejte v paralelním vesmíru v poklidném městečku na konci lehce steampunkově střiženého 19. století\, kde nic není nemožné.Bláznivá komedie o dvou sestrách\, které tak milují bližního svého\, že všem svým návštěvníkům nalévají smrtelně dobrý čaj\, možná bude někomu povědomá.Ale to se už v paralelních vesmírech stává\, že se setkáváte se známou realitou\, jen trochu jinou než jste čekali...Proto můžete uprostřed české kotliny potkat anglické strážníky\, zajít si na představení\, které ještě nevzniklo nebo se jmenovat po dosud neexistující literární postavě. O telefonech a autech nemluvě. Takže se nechte unášet na vlnách čisté\, byť notně bláznivé zábavy\, která má jediný cíl – pobavit Vás a zpříjemnit&nbsp\;Vám dnešní večer.Hraje: DS Mrsťa Prsťa Kouřim&nbsp\;
LOCATION:Bělá pod Bezdězem
END:VEVENT
END:VCALENDAR