BEGIN:VCALENDAR
VERSION:2.0
CALSCALE:GREGORIAN
PRODID:-//MyApp//Calendar 1.0//EN
BEGIN:VEVENT
METHOD:PUBLISH
UID:57975@regionalniportaly.cz
DTSTAMP:20260422T050009Z
DTSTART;VALUE=DATE:20251121
DTEND;VALUE=DATE:20251122
SUMMARY:Rakev pro dva
DESCRIPTION:Rakev pro dva je divadelní hra\, pocházející z pera dramatika Jeana-Pierra Martineze.Jedná se o konverzační komedii\, která se odehrává v prostorách pohřebního ústavu. Majitel Edmond Picard\, řeší problémy s chybějícím zaměstnancem\, kterého nahrazuje svéráznou Samanthou. A aby toho nebylo málo\, zrovna dnes se koná pohřeb dvou politiků\, monsieur Dellamera a madam Martino.Kombinace těchto okolností slibuje minimálně zajímavou podívanou a dokazuje\, že pohřebnictví rozhodně není nudné povolání.Hraje: DS Bazilišek Benátský
LOCATION:Bělá pod Bezdězem
END:VEVENT
END:VCALENDAR