BEGIN:VCALENDAR
VERSION:2.0
CALSCALE:GREGORIAN
PRODID:-//MyApp//Calendar 1.0//EN
BEGIN:VEVENT
METHOD:PUBLISH
UID:58314@regionalniportaly.cz
DTSTAMP:20260422T170746Z
DTSTART;VALUE=DATE:20251122
DTEND;VALUE=DATE:20251123
SUMMARY:PLESEJTE S NÁRUČÍ - 1. gala ples Centra pro rodinu Náruč
DESCRIPTION:TO TU JEŠTĚ NEBYLO!1. ples Náruče\, který se koná u příležitosti 25. výročí Centra pro rodinu Náruč v Turnově.Srdečně vás zveme na výjimečný večer plný hudby\, tance a setkání s lidmi\, kteří tvoří příběh Náruče.&nbsp\;
LOCATION:Turnov
END:VEVENT
END:VCALENDAR