BEGIN:VCALENDAR
VERSION:2.0
CALSCALE:GREGORIAN
PRODID:-//MyApp//Calendar 1.0//EN
BEGIN:VEVENT
METHOD:PUBLISH
UID:58686@regionalniportaly.cz
DTSTAMP:20260421T215225Z
DTSTART;VALUE=DATE:20260423
DTEND;VALUE=DATE:20260424
SUMMARY:Historky z Tinderu Tour 2026
DESCRIPTION:Stand up comedy show s Lucií Macháčkovou\, Kateřinou Haškovou a Alenou Dolákovou. Diváci se ponoří do husté a pořádně peprné show\, ve které komičky prozradí vše\, co (ne)ví o vztazích\, lásce\, sexu a seznamování. NYNÍ&nbsp\;VE VAŠEM MĚSTĚ!
LOCATION:Česká Lípa
END:VEVENT
END:VCALENDAR