BEGIN:VCALENDAR
VERSION:2.0
CALSCALE:GREGORIAN
PRODID:-//MyApp//Calendar 1.0//EN
BEGIN:VEVENT
METHOD:PUBLISH
UID:58958@regionalniportaly.cz
DTSTAMP:20260422T171018Z
DTSTART;VALUE=DATE:20251120
DTEND;VALUE=DATE:20251121
SUMMARY:Podnebí
DESCRIPTION:aneb Co si zasloužíš\, to i dostanešŽivot dostáváme jako čistý\, neposkvrněné oděv. A každé naše rozhodnutí\, každé naše slov náš čin se odrazí na čistotě našeho oděvu.&nbsp\;To jestli na konci naší životní poutě je oděv jakž takž čistý\, rozeznáme jeho původní barvu nebo jestli vypadá jako spodky starého bezdomovce\, to je jen na každém z nás. Ovšem potom se nedivte...
LOCATION:Mladá Boleslav
END:VEVENT
END:VCALENDAR