BEGIN:VCALENDAR
VERSION:2.0
CALSCALE:GREGORIAN
PRODID:-//MyApp//Calendar 1.0//EN
BEGIN:VEVENT
METHOD:PUBLISH
UID:58965@regionalniportaly.cz
DTSTAMP:20260422T184049Z
DTSTART;VALUE=DATE:20251218
DTEND;VALUE=DATE:20251219
SUMMARY:Vánoce v Divadýlku
DESCRIPTION:Vánoce jsou v Divadýlku vždycky veselé a voňavé. Cukroví se peče přímo na sále a svařené víno voní ve foyer. Na pořadu jsou dvě představení Vánoční povídka a Andělské apokryfy. Bez těhle dvou představení by to nebyly ty pravé Vánoce a kdo ví třeba bude i překvapení...
LOCATION:Mladá Boleslav
END:VEVENT
END:VCALENDAR