BEGIN:VCALENDAR
VERSION:2.0
CALSCALE:GREGORIAN
PRODID:-//MyApp//Calendar 1.0//EN
BEGIN:VEVENT
METHOD:PUBLISH
UID:59426@regionalniportaly.cz
DTSTAMP:20260422T111444Z
DTSTART;VALUE=DATE:20251219
DTEND;VALUE=DATE:20251220
SUMMARY:Vánoční koncert Českolipského Evergreenu
DESCRIPTION:Tradiční vánoční koncert pěveckého sboru Českolipský Evergreen&nbsp\;Vánoční čas je spjatý s hudbou\, radostí a setkáváním.Pěvecký sbor Českolipský Evergreen Vás proto srdečně zve na svůj tradiční vánoční koncert\, který přinese sváteční atmosféru i hudební potěšení.Na programu zazní známé i méně známé vánoční koledy a výběr ze sborové tvorby českých i zahraničních autorů. Hudební večer obohatí doprovod klavíru\, dechových nástrojů\, smyčcového kvarteta a také žesťového kvinteta\, jejichž společné provedení umocní slavnostní ráz tohoto koncertu.Účinkují:Pěvecký sbor Českolipský EvergreenSbormistr: Václav FilipKlavír: Alena Kolaříková\, Pavlína ForejtováPříčná flétna: Ludmila TesaříkováSmyčcový kvartet ve složení:Adéla Dragounová&nbsp\;- housle\,&nbsp\;Bui Thi Thuy Dung&nbsp\;- housle\,Barbara Pospíšilová&nbsp\;- viola\,&nbsp\;Ladislav Březnovský&nbsp\;- violoncelloLovosický žesťový kvintetPřijďte s námi prožít kouzlo Vánoc prostřednictvím hudby\, která zahřeje na duši.
LOCATION:Česká Lípa
END:VEVENT
END:VCALENDAR