BEGIN:VCALENDAR
VERSION:2.0
CALSCALE:GREGORIAN
PRODID:-//MyApp//Calendar 1.0//EN
BEGIN:VEVENT
METHOD:PUBLISH
UID:60306@regionalniportaly.cz
DTSTAMP:20260422T200131Z
DTSTART;VALUE=DATE:20251205
DTEND;VALUE=DATE:20251206
SUMMARY:Pulse Techno On Tour
DESCRIPTION:🔥 Pulse Techno on Tour – jedinečný večer\, který si nechceš nechat ujít.&nbsp\;Pulse Techno míří mimo Prahu — a poprvé přiváží svůj sound přímo do Willax Klubu v Mladé Boleslavi. Čeká tě noc plná nefalšovaného undergroundu\, propojující legendy devadesátek\, současnou techno špičku i atmosféru pražského klubu Pulse 22.&nbsp\;Za gramofony se představí čtyři DJs\, kteří spoluvytvářeli českou techno scénu a dodnes určují její směr:🎧 Orkus🎧 Icarian PB1🎧 Igor Pataky🎧 Underholt&nbsp\;Těšit se můžeš na čistě vinylovou noc\, která nabídne průřez techno historií od 90s až po nejaktuálnější zvuk dnešní scény.Žádné kompromisy. Jen techno\, jak má být.&nbsp\;Mikulášský večer si říká o pořádnou dávku techna — dorazte všichni čerti\, andělé (hlavně ti padlí) i ti\, co padli už dávno.&nbsp\;Mikulášský večer si říká o pořádnou dávku techna — dorazte všichni:👹 všichni čerti\,😇 i všichni andělé (hlavně ti padlí)\,🎅 a klidně i pár Mikulášů\, co se chtějí utrhnout ze řetězu.&nbsp\;📍 Willax Klub\, Mladá Boleslav📅 5. 12. 2025🎶 VINYL ONLY💸 Vstup: 200 CZK na místě / 150 CZK v předprodeji
LOCATION:Mladá Boleslav
END:VEVENT
END:VCALENDAR