BEGIN:VCALENDAR
VERSION:2.0
CALSCALE:GREGORIAN
PRODID:-//MyApp//Calendar 1.0//EN
BEGIN:VEVENT
METHOD:PUBLISH
UID:60411@regionalniportaly.cz
DTSTAMP:20260422T140644Z
DTSTART;VALUE=DATE:20260122
DTEND;VALUE=DATE:20260123
SUMMARY:A tak tě prosím\, kníže
DESCRIPTION:aneb Klauniáda pro dva pány\, cibuli\, špek a fantazii67. reprízaV naší inscenaci se potkávají motivy z povídek M. J. Saltykova-Ščedrina\, A. P. Čechova a Karla Steigerwalda.Hrajeme si s lidskými slabůstkami\, selháními i malými neřestmi – ale všechno bereme s humorem a laskavým nadhledem.A je úplně jedno\, že inspirace pochází i od ruských klasiků (a Karla Steigerwalda). Lidské chyby jsou zkrátka nadnárodní.Notář a kupec si na scéně dělají po svém a občas sami netuší\, kam je proud hry odnese. A to je na tom přece to nejzábavnější.Přidejte se k téhle dobrodružné plavbě!P.S.: Radkovi kostým je a dýchá dobře. Tak mě držte palce -mat-&nbsp\;&nbsp\;&nbsp\;&nbsp\;
LOCATION:Mladá Boleslav
END:VEVENT
END:VCALENDAR