BEGIN:VCALENDAR
VERSION:2.0
CALSCALE:GREGORIAN
PRODID:-//MyApp//Calendar 1.0//EN
BEGIN:VEVENT
METHOD:PUBLISH
UID:60537@regionalniportaly.cz
DTSTAMP:20260422T184213Z
DTSTART;VALUE=DATE:20251213
DTEND;VALUE=DATE:20251214
SUMMARY:Popelčiny vánoční trhy na zámku Zákupy
DESCRIPTION:V předprodeji nabízíme pouze vstupenky\, které&nbsp\;zahrnují&nbsp\;jak vstup na vánoční trhy\, tak pohádku ve vybraný čas. Samostatný vstup na trhy za 60 Kč bude v prodeji POUZE NA MÍSTĚ.Více jak 70 stánků v zámeckých konírnách&nbsp\;– rukodělné výrobky\, vánoční dekorace\, dobroty i originální dárky pro vaše blízké. A k tomu zábavná pohádka s Popelkou\, princem i Dorotou na přibližně 35 minut v krytém prostoru koníren.A samozřejmě nebude chybět ani pohádkový program na nádvoří:&nbsp\;PROGRAM⭐&nbsp\;PÁTEK• 15:30 Slavnostní zahájení trhů• 16:00 Melodie Vánoc – zpěvačka Anna Skočovská• 17:00 Animační program s Popelkou⭐&nbsp\;SOBOTA A NEDĚLE• 11:00 Slavnostní příjezd Popelky• 12:00–14:00 Střelba z kuše• 13:00 Animační program s Popelkou• 14:00 Sokolníci Panthea• 15:00 Melodie Vánoc – Anna Skočovská• 16:00 Bál s princem✨&nbsp\;SPECIÁLNÍ PROGRAMSOBOTA:&nbsp\;18:00 Kouzlo Vánoc: světelný&nbsp\;příběhNEDĚLE:&nbsp\;17:30 Slavnostní zakončení trhůPohádka s Popelkou: co kdyby Popelka nepřišla na ples?V sobotu a v neděli v časech: 12:00\, 13:00\, 15:00 a 17:00-pouze v sobotuProhlídky vánočně vyzdobeného zámkuV sobotu i v neděli od 10 do 16 hodin se slevou pro návštěvníky trhů.&nbsp\;&nbsp\;&nbsp\;OTEVÍRACÍ DOBA:Pátek 15:00–19:00Sobota 10:00–19:00Neděle 10:00–18:00
LOCATION:Zákupy
END:VEVENT
END:VCALENDAR