BEGIN:VCALENDAR
VERSION:2.0
CALSCALE:GREGORIAN
PRODID:-//MyApp//Calendar 1.0//EN
BEGIN:VEVENT
METHOD:PUBLISH
UID:60825@regionalniportaly.cz
DTSTAMP:20260422T112527Z
DTSTART;VALUE=DATE:20260219
DTEND;VALUE=DATE:20260220
SUMMARY:Bylo nás pět
DESCRIPTION:Kdo by je neznal – Petr Bajza\, Eda Kemlink\, Tonda Bejval\, Čeněk Jirsák a Zilvar z&nbsp\;chudobince. Celý národ viděl seriál\, většina zná kouzelné rozhlasové čtení pana Filipovského\, někteří přečetli knihu a sem tam je někdo už viděl i&nbsp\;na jiném jevišti. Nyní přichází tahle pětice i&nbsp\;do Divadýlka na dlani spolu s&nbsp\;plejádou rychnovských postav a postaviček\, aby si získaly i&nbsp\;vaši přízeň. Vraťte se s&nbsp\;námi do doby\, kdy děti dávaly počestnost\, hokynáři si vážili svých zákazníků\, děvčata voněla vanilkovým cukrem a kluci válčili své malé velké války. Vraťte se s&nbsp\;námi do dětství.
LOCATION:Mladá Boleslav
END:VEVENT
END:VCALENDAR