BEGIN:VCALENDAR
VERSION:2.0
CALSCALE:GREGORIAN
PRODID:-//MyApp//Calendar 1.0//EN
BEGIN:VEVENT
METHOD:PUBLISH
UID:61250@regionalniportaly.cz
DTSTAMP:20260422T154551Z
DTSTART;VALUE=DATE:20260206
DTEND;VALUE=DATE:20260207
SUMMARY:Maturitní ples - oktáva\, 4.A
DESCRIPTION:Gymnázium J. S. Machara Vás všechny srdečně zve na maturitní ples tříd oktávy&nbsp\; &nbsp\; a 4.A\, který se bude konat 6. 2. 2026 v Mladé Boleslavi.
LOCATION:Mladá Boleslav
END:VEVENT
END:VCALENDAR