BEGIN:VCALENDAR
VERSION:2.0
CALSCALE:GREGORIAN
PRODID:-//MyApp//Calendar 1.0//EN
BEGIN:VEVENT
METHOD:PUBLISH
UID:61624@regionalniportaly.cz
DTSTAMP:20260422T113841Z
DTSTART;VALUE=DATE:20260401
DTEND;VALUE=DATE:20260402
SUMMARY:Divadelní představení Changewyx
DESCRIPTION:Divadelní představení Changewyx popisuje silný příběh\, kde diváci 3x hlasují o dalším ději.&nbsp\;Představení je vhodné jak pro děti \, studenty tak i dospělé.
LOCATION:Turnov
END:VEVENT
END:VCALENDAR