BEGIN:VCALENDAR
VERSION:2.0
CALSCALE:GREGORIAN
PRODID:-//MyApp//Calendar 1.0//EN
BEGIN:VEVENT
METHOD:PUBLISH
UID:61918@regionalniportaly.cz
DTSTAMP:20260420T083937Z
DTSTART;VALUE=DATE:20260509
DTEND;VALUE=DATE:20260510
SUMMARY:Hovory ze země naživo
DESCRIPTION:Setkání a povídání se Štěpánem a Melanie Matějkovými proběhne v duchu&nbsp\;bylinkaření\, detoxikaci organismu\, psychické rovnováze\, dentosofii a o jejich cestě\, která může druhé inspirovat.Jako další host&nbsp\;bude přítomen cestovatel&nbsp\;Martin Pávek\, se kterým se podíváme&nbsp\;více do hloubky naší historie. Popovídáme si o jeho výpravách do Amazonie\, o obrech\, o zaniklých kulturách. Vydáme se i po stopách dávných civilizací\, které byly na vysoké urovni vědění a zanechaly nám zde mnoho otisků\, které můžeme vidět všude kolem sebe.O hudební kulisu se postará&nbsp\;&nbsp\;Marek Jelínek a Maťěj Šťastko.
LOCATION:Veselice
END:VEVENT
END:VCALENDAR