BEGIN:VCALENDAR
VERSION:2.0
CALSCALE:GREGORIAN
PRODID:-//MyApp//Calendar 1.0//EN
BEGIN:VEVENT
METHOD:PUBLISH
UID:62152@regionalniportaly.cz
DTSTAMP:20260422T095250Z
DTSTART;VALUE=DATE:20260205
DTEND;VALUE=DATE:20260206
SUMMARY:Hadry
DESCRIPTION:Vítejte ve světě\, kde se setkává záhada s lidskostí. V jedné bezdomovecké komunitě se Docentův starý svatební oblek záhadně ztrácí a zase objevuje.&nbsp\; Do tohoto světa vstoupí Augusta\, kdysi slavná spisovatelka\, teď na dně. Hledá inspiraci a najde?&nbsp\; Najde mnohem víc\, pozná nové lidi\, jejich příběhy a jejich trable. Seznámí se s rozmařilou Ročildkou\, podmračilým Docentem\, laskavou Mamčou\, roztěkaným Biskou a přeochotnou Prcinkou.&nbsp\; Tahle hořkosladká komedie plná všech možných pocitů si přeci rozhodně nemůže dovolit špatný konec!&nbsp\;
LOCATION:Mladá Boleslav
END:VEVENT
END:VCALENDAR