BEGIN:VCALENDAR
VERSION:2.0
CALSCALE:GREGORIAN
PRODID:-//MyApp//Calendar 1.0//EN
BEGIN:VEVENT
METHOD:PUBLISH
UID:62229@regionalniportaly.cz
DTSTAMP:20260422T111711Z
DTSTART;VALUE=DATE:20260206
DTEND;VALUE=DATE:20260207
SUMMARY:Pulse Techno on Tour w/ Underholt\, Icarian PB1\, Igor Pataky
DESCRIPTION:Pulse Techno se vrací do Mladé Boleslavi. Klub Willax se znovu promění v prostor pro temný groove\, hypnotické rytmy a poctivé undergroundové techno.Čeká tě noc postavená na energii\, kvalitním výběru a atmosféře undergroundových klubů. Průřez současným technem i kořeny\, ze kterých tenhle žánr vyrostl.&nbsp\;Za gramofony se představí:🎧 Igor Pataky🎧 Icarian PB1🎧 Underholt🎧 Afrgr&nbsp\;Žádné kompromisy\, žádná pozlátka. Jen hudba\, klub a lidi\, kteří přišli kvůli technu.&nbsp\;🎶 UnderholtJe členem Pulse Techno Crew a rezidentem pražského klubu Pulse 22. Vinylový purista s citem pro hypnotickou gradaci a surovou energii. Je známý svým temným zvukem\, který stojí na charakteristickém slovenském\, bratislavském techno soundu. Ve svých setech vytváří plynulý\, gradující zážitek\, který tě vtáhne a nepustí až do posledního beatu. Pravidelně sdílí stage s dalšími rezidenty Pulse Techno a upevňuje svou pozici na české techno scéně.&nbsp\;🎶 Icarian PB1Techno DJ a producent aktivní od devadesátých let (původně DJ Flashback)\, známý svou všestranností jako digitální DJ\, vinylový DJ i live act. Jeho hudba vychází na labelech jako Bass Controllism\, NO PAIN Records či AFR Records. Je zakladatelem a hybnou silou seskupení Pulse Techno\, které propojuje různé generace techno fanoušků a DJs.&nbsp\;🎶 Igor PatakyLegenda československé techno scény s více než třicetiletou historií. Patří mezi první DJs\, kteří formovali techno kulturu u nás — svou kariéru začal už na konci osmdesátých let a vystupoval na významných akcích napříč republikou i regionem. Je známý svým hlubokým citem pro energii taneční hudby a schopností provést publikum různými érami techna — od jeho počátků až po současné undergroundové proudy.&nbsp\;🎶 AFRGRJe energický mladoboleslavský DJ a selector elektronické/taneční hudby\, který je aktivní na české klubové scéně. Působí především ve spolupráci s crew Technørd\, s nimiž organizuje a podporuje pravidelné párty a akce TechnørdBUNKR v regionu Liberecka a okolí. Je známý svými dynamickými sety\, ve kterých kombinuje taneční rytmy a undergroundové vlivy\, a dokáže rozhýbat publikum napříč různými žánry elektronické hudby.&nbsp\;Pulse Techno on Tour – Willax Klub. Buď u toho.Willax Klub\, Mladá Boleslav6. 2. 2026VINYL ONLYVstup: 200 CZK na místě / 150 CZK v předprodeji
LOCATION:Mladá Boleslav
END:VEVENT
END:VCALENDAR